BEGIN:VCALENDAR
VERSION:2.0
PRODID:-//Jonathan&#039;s Landing - Golf Course - Wedding Venue - Events Venue - Golf Outing - Kent County - Dover - Delaware - ECPv6.15.20//NONSGML v1.0//EN
CALSCALE:GREGORIAN
METHOD:PUBLISH
X-ORIGINAL-URL:https://jonathanslandinggolf.com
X-WR-CALDESC:Events for Jonathan&#039;s Landing - Golf Course - Wedding Venue - Events Venue - Golf Outing - Kent County - Dover - Delaware
REFRESH-INTERVAL;VALUE=DURATION:PT1H
X-Robots-Tag:noindex
X-PUBLISHED-TTL:PT1H
BEGIN:VTIMEZONE
TZID:UTC
BEGIN:STANDARD
TZOFFSETFROM:+0000
TZOFFSETTO:+0000
TZNAME:UTC
DTSTART:20240101T000000
END:STANDARD
END:VTIMEZONE
BEGIN:VEVENT
DTSTART;VALUE=DATE:20251213
DTEND;VALUE=DATE:20251214
DTSTAMP:20260422T004819
CREATED:20250411T152443Z
LAST-MODIFIED:20250411T153302Z
UID:12742-1765584000-1765670399@jonathanslandinggolf.com
SUMMARY:Ballroom Reserved
DESCRIPTION:Our Ballroom is reserved for a private event
URL:https://jonathanslandinggolf.com/events-calendar/ballroom-reserved/2025-12-13/
LOCATION:Jonathan’s Landing Golf Club\, 1309 Ponderosa Drive\, Magnolia\, Delaware\, 19962
CATEGORIES:Ballroom
ATTACH;FMTTYPE=image/png:https://jonathanslandinggolf.com/wp-content/uploads/2025/04/JL_ballroom_cover.image_.RESERVED_4.2025.png
END:VEVENT
BEGIN:VEVENT
DTSTART;VALUE=DATE:20251130
DTEND;VALUE=DATE:20251201
DTSTAMP:20260422T004819
CREATED:20250411T152443Z
LAST-MODIFIED:20250411T153301Z
UID:12741-1764460800-1764547199@jonathanslandinggolf.com
SUMMARY:Ballroom Reserved
DESCRIPTION:Our Ballroom is reserved for a private event
URL:https://jonathanslandinggolf.com/events-calendar/ballroom-reserved/2025-11-30/
LOCATION:Jonathan’s Landing Golf Club\, 1309 Ponderosa Drive\, Magnolia\, Delaware\, 19962
CATEGORIES:Ballroom
ATTACH;FMTTYPE=image/png:https://jonathanslandinggolf.com/wp-content/uploads/2025/04/JL_ballroom_cover.image_.RESERVED_4.2025.png
END:VEVENT
BEGIN:VEVENT
DTSTART;VALUE=DATE:20251108
DTEND;VALUE=DATE:20251109
DTSTAMP:20260422T004819
CREATED:20250411T152443Z
LAST-MODIFIED:20250411T153259Z
UID:12740-1762560000-1762646399@jonathanslandinggolf.com
SUMMARY:Ballroom Reserved
DESCRIPTION:Our Ballroom is reserved for a private event
URL:https://jonathanslandinggolf.com/events-calendar/ballroom-reserved/2025-11-08/
LOCATION:Jonathan’s Landing Golf Club\, 1309 Ponderosa Drive\, Magnolia\, Delaware\, 19962
CATEGORIES:Ballroom
ATTACH;FMTTYPE=image/png:https://jonathanslandinggolf.com/wp-content/uploads/2025/04/JL_ballroom_cover.image_.RESERVED_4.2025.png
END:VEVENT
BEGIN:VEVENT
DTSTART;VALUE=DATE:20251031
DTEND;VALUE=DATE:20251101
DTSTAMP:20260422T004819
CREATED:20250411T152443Z
LAST-MODIFIED:20250411T153254Z
UID:12739-1761868800-1761955199@jonathanslandinggolf.com
SUMMARY:Ballroom Reserved
DESCRIPTION:Our Ballroom is reserved for a private event
URL:https://jonathanslandinggolf.com/events-calendar/ballroom-reserved/2025-10-31/
LOCATION:Jonathan’s Landing Golf Club\, 1309 Ponderosa Drive\, Magnolia\, Delaware\, 19962
CATEGORIES:Ballroom
ATTACH;FMTTYPE=image/png:https://jonathanslandinggolf.com/wp-content/uploads/2025/04/JL_ballroom_cover.image_.RESERVED_4.2025.png
END:VEVENT
BEGIN:VEVENT
DTSTART;TZID=UTC:20251029T100000
DTEND;TZID=UTC:20251029T170000
DTSTAMP:20260422T004819
CREATED:20250412T183447Z
LAST-MODIFIED:20250412T183746Z
UID:12806-1761732000-1761757200@jonathanslandinggolf.com
SUMMARY:Golf Outing: Sonny D Outing
DESCRIPTION:Wednesday\, October 29\, 2025 • 10:00AM
URL:https://jonathanslandinggolf.com/events-calendar/golf-outing-sonny-d-outing/
LOCATION:Jonathan’s Landing Golf Club\, 1309 Ponderosa Drive\, Magnolia\, Delaware\, 19962
CATEGORIES:Ballroom,Golf Outings
ATTACH;FMTTYPE=image/png:https://jonathanslandinggolf.com/wp-content/uploads/2024/07/JL_outing_cover.image_7.2024.png
END:VEVENT
BEGIN:VEVENT
DTSTART;VALUE=DATE:20251025
DTEND;VALUE=DATE:20251026
DTSTAMP:20260422T004819
CREATED:20250411T152443Z
LAST-MODIFIED:20250411T153254Z
UID:12738-1761350400-1761436799@jonathanslandinggolf.com
SUMMARY:Ballroom Reserved
DESCRIPTION:Our Ballroom is reserved for a private event
URL:https://jonathanslandinggolf.com/events-calendar/ballroom-reserved/2025-10-25/
LOCATION:Jonathan’s Landing Golf Club\, 1309 Ponderosa Drive\, Magnolia\, Delaware\, 19962
CATEGORIES:Ballroom
ATTACH;FMTTYPE=image/png:https://jonathanslandinggolf.com/wp-content/uploads/2025/04/JL_ballroom_cover.image_.RESERVED_4.2025.png
END:VEVENT
BEGIN:VEVENT
DTSTART;TZID=UTC:20251016T120000
DTEND;TZID=UTC:20251016T190000
DTSTAMP:20260422T004819
CREATED:20250412T183327Z
LAST-MODIFIED:20250412T183327Z
UID:12805-1760616000-1760641200@jonathanslandinggolf.com
SUMMARY:Golf Outing: Miss Utility
DESCRIPTION:Thursday\, October 16\, 2025 • 12:00PM
URL:https://jonathanslandinggolf.com/events-calendar/golf-outing-miss-utility-2/
LOCATION:Jonathan’s Landing Golf Club\, 1309 Ponderosa Drive\, Magnolia\, Delaware\, 19962
CATEGORIES:Ballroom,Golf Outings
ATTACH;FMTTYPE=image/png:https://jonathanslandinggolf.com/wp-content/uploads/2024/07/JL_outing_cover.image_7.2024.png
END:VEVENT
BEGIN:VEVENT
DTSTART;VALUE=DATE:20251016
DTEND;VALUE=DATE:20251017
DTSTAMP:20260422T004819
CREATED:20250411T152443Z
LAST-MODIFIED:20250411T153253Z
UID:12737-1760572800-1760659199@jonathanslandinggolf.com
SUMMARY:Ballroom Reserved
DESCRIPTION:Our Ballroom is reserved for a private event
URL:https://jonathanslandinggolf.com/events-calendar/ballroom-reserved/2025-10-16/
LOCATION:Jonathan’s Landing Golf Club\, 1309 Ponderosa Drive\, Magnolia\, Delaware\, 19962
CATEGORIES:Ballroom
ATTACH;FMTTYPE=image/png:https://jonathanslandinggolf.com/wp-content/uploads/2025/04/JL_ballroom_cover.image_.RESERVED_4.2025.png
END:VEVENT
BEGIN:VEVENT
DTSTART;VALUE=DATE:20251011
DTEND;VALUE=DATE:20251012
DTSTAMP:20260422T004819
CREATED:20250411T152443Z
LAST-MODIFIED:20250411T153252Z
UID:12736-1760140800-1760227199@jonathanslandinggolf.com
SUMMARY:Ballroom Reserved
DESCRIPTION:Our Ballroom is reserved for a private event
URL:https://jonathanslandinggolf.com/events-calendar/ballroom-reserved/2025-10-11/
LOCATION:Jonathan’s Landing Golf Club\, 1309 Ponderosa Drive\, Magnolia\, Delaware\, 19962
CATEGORIES:Ballroom
ATTACH;FMTTYPE=image/png:https://jonathanslandinggolf.com/wp-content/uploads/2025/04/JL_ballroom_cover.image_.RESERVED_4.2025.png
END:VEVENT
BEGIN:VEVENT
DTSTART;TZID=UTC:20251003T090000
DTEND;TZID=UTC:20251003T170000
DTSTAMP:20260422T004819
CREATED:20250412T183133Z
LAST-MODIFIED:20250412T183133Z
UID:12804-1759482000-1759510800@jonathanslandinggolf.com
SUMMARY:Golf Outing: First State Military Academy
DESCRIPTION:Friday\, October 3\, 2025 • 9:00AM
URL:https://jonathanslandinggolf.com/events-calendar/golf-outing-first-state-military-academy/
LOCATION:Jonathan’s Landing Golf Club\, 1309 Ponderosa Drive\, Magnolia\, Delaware\, 19962
CATEGORIES:Ballroom,Golf Outings
ATTACH;FMTTYPE=image/png:https://jonathanslandinggolf.com/wp-content/uploads/2024/07/JL_outing_cover.image_7.2024.png
END:VEVENT
BEGIN:VEVENT
DTSTART;TZID=UTC:20251001T090000
DTEND;TZID=UTC:20251001T170000
DTSTAMP:20260422T004819
CREATED:20250412T183029Z
LAST-MODIFIED:20250412T183029Z
UID:12803-1759309200-1759338000@jonathanslandinggolf.com
SUMMARY:Golf Outing: Milford Lions
DESCRIPTION:Wednesday\, October 1\, 2025 • 9:00AM
URL:https://jonathanslandinggolf.com/events-calendar/golf-outing-milford-lions-2/
LOCATION:Jonathan’s Landing Golf Club\, 1309 Ponderosa Drive\, Magnolia\, Delaware\, 19962
CATEGORIES:Ballroom,Golf Outings
ATTACH;FMTTYPE=image/png:https://jonathanslandinggolf.com/wp-content/uploads/2024/07/JL_outing_cover.image_7.2024.png
END:VEVENT
BEGIN:VEVENT
DTSTART;TZID=UTC:20250927T090000
DTEND;TZID=UTC:20250927T170000
DTSTAMP:20260422T004819
CREATED:20250412T182828Z
LAST-MODIFIED:20250412T182828Z
UID:12802-1758963600-1758992400@jonathanslandinggolf.com
SUMMARY:Golf Outing: CR JRROTC
DESCRIPTION:Saturday\, September 27\, 2025 • 9:00AM
URL:https://jonathanslandinggolf.com/events-calendar/golf-outing-cr-jrrotc/
LOCATION:Jonathan’s Landing Golf Club\, 1309 Ponderosa Drive\, Magnolia\, Delaware\, 19962
CATEGORIES:Ballroom,Golf Outings
ATTACH;FMTTYPE=image/png:https://jonathanslandinggolf.com/wp-content/uploads/2024/07/JL_outing_cover.image_7.2024.png
END:VEVENT
BEGIN:VEVENT
DTSTART;TZID=UTC:20250926T090000
DTEND;TZID=UTC:20250926T170000
DTSTAMP:20260422T004819
CREATED:20250412T182627Z
LAST-MODIFIED:20250412T182627Z
UID:12801-1758877200-1758906000@jonathanslandinggolf.com
SUMMARY:Golf Outing: Ducks Unlimited
DESCRIPTION:Friday\, September 26\, 2025 • 9:00AM
URL:https://jonathanslandinggolf.com/events-calendar/golf-outing-ducks-unlimited/
LOCATION:Jonathan’s Landing Golf Club\, 1309 Ponderosa Drive\, Magnolia\, Delaware\, 19962
CATEGORIES:Ballroom,Golf Outings
ATTACH;FMTTYPE=image/png:https://jonathanslandinggolf.com/wp-content/uploads/2024/07/JL_outing_cover.image_7.2024.png
END:VEVENT
BEGIN:VEVENT
DTSTART;TZID=UTC:20250925T090000
DTEND;TZID=UTC:20250925T170000
DTSTAMP:20260422T004819
CREATED:20250412T180843Z
LAST-MODIFIED:20250412T180843Z
UID:12796-1758790800-1758819600@jonathanslandinggolf.com
SUMMARY:Golf Outing: Local 313 Electricians
DESCRIPTION:Thursday\, September 25\, 2025 • 9:00AM
URL:https://jonathanslandinggolf.com/events-calendar/golf-outing-local-313-electricians/
LOCATION:Jonathan’s Landing Golf Club\, 1309 Ponderosa Drive\, Magnolia\, Delaware\, 19962
CATEGORIES:Ballroom,Golf Outings
ATTACH;FMTTYPE=image/png:https://jonathanslandinggolf.com/wp-content/uploads/2024/07/JL_outing_cover.image_7.2024.png
END:VEVENT
BEGIN:VEVENT
DTSTART;VALUE=DATE:20250920
DTEND;VALUE=DATE:20250921
DTSTAMP:20260422T004819
CREATED:20250411T152443Z
LAST-MODIFIED:20250411T153251Z
UID:12735-1758326400-1758412799@jonathanslandinggolf.com
SUMMARY:Ballroom Reserved
DESCRIPTION:Our Ballroom is reserved for a private event
URL:https://jonathanslandinggolf.com/events-calendar/ballroom-reserved/2025-09-20/
LOCATION:Jonathan’s Landing Golf Club\, 1309 Ponderosa Drive\, Magnolia\, Delaware\, 19962
CATEGORIES:Ballroom
ATTACH;FMTTYPE=image/png:https://jonathanslandinggolf.com/wp-content/uploads/2025/04/JL_ballroom_cover.image_.RESERVED_4.2025.png
END:VEVENT
BEGIN:VEVENT
DTSTART;TZID=UTC:20250918T090000
DTEND;TZID=UTC:20250918T170000
DTSTAMP:20260422T004819
CREATED:20250412T180741Z
LAST-MODIFIED:20250412T180741Z
UID:12795-1758186000-1758214800@jonathanslandinggolf.com
SUMMARY:Golf Outing: Del-One
DESCRIPTION:Thursday\, September 18\, 2025 • 9:00AM
URL:https://jonathanslandinggolf.com/events-calendar/golf-outing-del-one/
LOCATION:Jonathan’s Landing Golf Club\, 1309 Ponderosa Drive\, Magnolia\, Delaware\, 19962
CATEGORIES:Ballroom,Golf Outings
ATTACH;FMTTYPE=image/png:https://jonathanslandinggolf.com/wp-content/uploads/2024/07/JL_outing_cover.image_7.2024.png
END:VEVENT
BEGIN:VEVENT
DTSTART;VALUE=DATE:20250911
DTEND;VALUE=DATE:20250912
DTSTAMP:20260422T004819
CREATED:20250411T152443Z
LAST-MODIFIED:20250411T153250Z
UID:12734-1757548800-1757635199@jonathanslandinggolf.com
SUMMARY:Ballroom Reserved
DESCRIPTION:Our Ballroom is reserved for a private event
URL:https://jonathanslandinggolf.com/events-calendar/ballroom-reserved/2025-09-11/
LOCATION:Jonathan’s Landing Golf Club\, 1309 Ponderosa Drive\, Magnolia\, Delaware\, 19962
CATEGORIES:Ballroom
ATTACH;FMTTYPE=image/png:https://jonathanslandinggolf.com/wp-content/uploads/2025/04/JL_ballroom_cover.image_.RESERVED_4.2025.png
END:VEVENT
BEGIN:VEVENT
DTSTART;VALUE=DATE:20250906
DTEND;VALUE=DATE:20250907
DTSTAMP:20260422T004819
CREATED:20250411T152443Z
LAST-MODIFIED:20250411T153249Z
UID:12733-1757116800-1757203199@jonathanslandinggolf.com
SUMMARY:Ballroom Reserved
DESCRIPTION:Our Ballroom is reserved for a private event
URL:https://jonathanslandinggolf.com/events-calendar/ballroom-reserved/2025-09-06/
LOCATION:Jonathan’s Landing Golf Club\, 1309 Ponderosa Drive\, Magnolia\, Delaware\, 19962
CATEGORIES:Ballroom
ATTACH;FMTTYPE=image/png:https://jonathanslandinggolf.com/wp-content/uploads/2025/04/JL_ballroom_cover.image_.RESERVED_4.2025.png
END:VEVENT
BEGIN:VEVENT
DTSTART;TZID=UTC:20250905T090000
DTEND;TZID=UTC:20250905T170000
DTSTAMP:20260422T004819
CREATED:20250412T180203Z
LAST-MODIFIED:20250412T180203Z
UID:12794-1757062800-1757091600@jonathanslandinggolf.com
SUMMARY:Golf Outing: KSI
DESCRIPTION:Friday\, September 5\, 2025 • 9:00AM
URL:https://jonathanslandinggolf.com/events-calendar/golf-outing-ksi/
LOCATION:Jonathan’s Landing Golf Club\, 1309 Ponderosa Drive\, Magnolia\, Delaware\, 19962
CATEGORIES:Ballroom,Golf Outings
ATTACH;FMTTYPE=image/png:https://jonathanslandinggolf.com/wp-content/uploads/2024/07/JL_outing_cover.image_7.2024.png
END:VEVENT
BEGIN:VEVENT
DTSTART;TZID=UTC:20250903T100000
DTEND;TZID=UTC:20250903T170000
DTSTAMP:20260422T004819
CREATED:20250412T180048Z
LAST-MODIFIED:20250412T180423Z
UID:12793-1756893600-1756918800@jonathanslandinggolf.com
SUMMARY:Golf Outing: Holy Cross League Tournament
DESCRIPTION:Wednesday\, September 3\, 2025 • 10:00AM
URL:https://jonathanslandinggolf.com/events-calendar/golf-outing-holy-cross-league-tournament-2/
LOCATION:Jonathan’s Landing Golf Club\, 1309 Ponderosa Drive\, Magnolia\, Delaware\, 19962
CATEGORIES:Ballroom,Golf Outings
ATTACH;FMTTYPE=image/png:https://jonathanslandinggolf.com/wp-content/uploads/2024/07/JL_outing_cover.image_7.2024.png
END:VEVENT
BEGIN:VEVENT
DTSTART;TZID=UTC:20250822T100000
DTEND;TZID=UTC:20250822T170000
DTSTAMP:20260422T004819
CREATED:20250412T175546Z
LAST-MODIFIED:20250412T180456Z
UID:12790-1755856800-1755882000@jonathanslandinggolf.com
SUMMARY:Golf Outing: Habitat For Humanity
DESCRIPTION:Friday\, August 22\, 2025 • 10:00AM
URL:https://jonathanslandinggolf.com/events-calendar/golf-outing-habitat-for-humanity/
LOCATION:Jonathan’s Landing Golf Club\, 1309 Ponderosa Drive\, Magnolia\, Delaware\, 19962
CATEGORIES:Ballroom,Golf Outings
ATTACH;FMTTYPE=image/png:https://jonathanslandinggolf.com/wp-content/uploads/2024/07/JL_outing_cover.image_7.2024.png
END:VEVENT
BEGIN:VEVENT
DTSTART;VALUE=DATE:20250816
DTEND;VALUE=DATE:20250817
DTSTAMP:20260422T004819
CREATED:20250411T152443Z
LAST-MODIFIED:20250411T153249Z
UID:12732-1755302400-1755388799@jonathanslandinggolf.com
SUMMARY:Ballroom Reserved
DESCRIPTION:Our Ballroom is reserved for a private event
URL:https://jonathanslandinggolf.com/events-calendar/ballroom-reserved/2025-08-16/
LOCATION:Jonathan’s Landing Golf Club\, 1309 Ponderosa Drive\, Magnolia\, Delaware\, 19962
CATEGORIES:Ballroom
ATTACH;FMTTYPE=image/png:https://jonathanslandinggolf.com/wp-content/uploads/2025/04/JL_ballroom_cover.image_.RESERVED_4.2025.png
END:VEVENT
BEGIN:VEVENT
DTSTART;VALUE=DATE:20250809
DTEND;VALUE=DATE:20250810
DTSTAMP:20260422T004819
CREATED:20250411T152443Z
LAST-MODIFIED:20250411T153248Z
UID:12731-1754697600-1754783999@jonathanslandinggolf.com
SUMMARY:Ballroom Reserved
DESCRIPTION:Our Ballroom is reserved for a private event
URL:https://jonathanslandinggolf.com/events-calendar/ballroom-reserved/2025-08-09/
LOCATION:Jonathan’s Landing Golf Club\, 1309 Ponderosa Drive\, Magnolia\, Delaware\, 19962
CATEGORIES:Ballroom
ATTACH;FMTTYPE=image/png:https://jonathanslandinggolf.com/wp-content/uploads/2025/04/JL_ballroom_cover.image_.RESERVED_4.2025.png
END:VEVENT
BEGIN:VEVENT
DTSTART;TZID=UTC:20250718T090000
DTEND;TZID=UTC:20250718T170000
DTSTAMP:20260422T004819
CREATED:20250412T175433Z
LAST-MODIFIED:20250412T180515Z
UID:12789-1752829200-1752858000@jonathanslandinggolf.com
SUMMARY:Golf Outing: Milford Football
DESCRIPTION:Friday\, July 18\, 2025 • 9:00AM
URL:https://jonathanslandinggolf.com/events-calendar/golf-outing-milford-football/
LOCATION:Jonathan’s Landing Golf Club\, 1309 Ponderosa Drive\, Magnolia\, Delaware\, 19962
CATEGORIES:Ballroom,Golf Outings
ATTACH;FMTTYPE=image/png:https://jonathanslandinggolf.com/wp-content/uploads/2024/07/JL_outing_cover.image_7.2024.png
END:VEVENT
BEGIN:VEVENT
DTSTART;TZID=UTC:20250711T090000
DTEND;TZID=UTC:20250711T170000
DTSTAMP:20260422T004819
CREATED:20250412T175316Z
LAST-MODIFIED:20250425T145731Z
UID:12788-1752224400-1752253200@jonathanslandinggolf.com
SUMMARY:Golf Outing: Carson Leone
DESCRIPTION:Friday\, July 11\, 2025 • 9:00AM
URL:https://jonathanslandinggolf.com/events-calendar/carson-leone/
LOCATION:Jonathan’s Landing Golf Club\, 1309 Ponderosa Drive\, Magnolia\, Delaware\, 19962
CATEGORIES:Ballroom,Golf Outings
ATTACH;FMTTYPE=image/png:https://jonathanslandinggolf.com/wp-content/uploads/2024/07/JL_outing_cover.image_7.2024.png
END:VEVENT
BEGIN:VEVENT
DTSTART;TZID=UTC:20250627T090000
DTEND;TZID=UTC:20250627T170000
DTSTAMP:20260422T004819
CREATED:20250412T175209Z
LAST-MODIFIED:20250412T180543Z
UID:12787-1751014800-1751043600@jonathanslandinggolf.com
SUMMARY:Golf Outing: Wreaths Across America
DESCRIPTION:Friday\, June 27\, 2025 • 9:00AM
URL:https://jonathanslandinggolf.com/events-calendar/golf-outing-wreaths-across-america/
LOCATION:Jonathan’s Landing Golf Club\, 1309 Ponderosa Drive\, Magnolia\, Delaware\, 19962
CATEGORIES:Ballroom,Golf Outings
ATTACH;FMTTYPE=image/png:https://jonathanslandinggolf.com/wp-content/uploads/2024/07/JL_outing_cover.image_7.2024.png
END:VEVENT
BEGIN:VEVENT
DTSTART;TZID=UTC:20250620T100000
DTEND;TZID=UTC:20250620T170000
DTSTAMP:20260422T004819
CREATED:20250412T175058Z
LAST-MODIFIED:20250412T175058Z
UID:12786-1750413600-1750438800@jonathanslandinggolf.com
SUMMARY:Golf Outing: DE Ballet
DESCRIPTION:Friday\, June 20\, 2025 • 10:00AM
URL:https://jonathanslandinggolf.com/events-calendar/golf-outing-de-ballet/
LOCATION:Jonathan’s Landing Golf Club\, 1309 Ponderosa Drive\, Magnolia\, Delaware\, 19962
CATEGORIES:Ballroom,Golf Outings
ATTACH;FMTTYPE=image/png:https://jonathanslandinggolf.com/wp-content/uploads/2024/07/JL_outing_cover.image_7.2024.png
END:VEVENT
BEGIN:VEVENT
DTSTART;VALUE=DATE:20250614
DTEND;VALUE=DATE:20250615
DTSTAMP:20260422T004819
CREATED:20250411T152443Z
LAST-MODIFIED:20250411T153247Z
UID:12730-1749859200-1749945599@jonathanslandinggolf.com
SUMMARY:Ballroom Reserved
DESCRIPTION:Our Ballroom is reserved for a private event
URL:https://jonathanslandinggolf.com/events-calendar/ballroom-reserved/2025-06-14/
LOCATION:Jonathan’s Landing Golf Club\, 1309 Ponderosa Drive\, Magnolia\, Delaware\, 19962
CATEGORIES:Ballroom
ATTACH;FMTTYPE=image/png:https://jonathanslandinggolf.com/wp-content/uploads/2025/04/JL_ballroom_cover.image_.RESERVED_4.2025.png
END:VEVENT
BEGIN:VEVENT
DTSTART;TZID=UTC:20250606T090000
DTEND;TZID=UTC:20250606T170000
DTSTAMP:20260422T004819
CREATED:20250412T174929Z
LAST-MODIFIED:20250412T174929Z
UID:12785-1749200400-1749229200@jonathanslandinggolf.com
SUMMARY:Golf Outing: ARDSP
DESCRIPTION:Friday\, June 6\, 2025 • 9:00AM
URL:https://jonathanslandinggolf.com/events-calendar/golf-outing-ardsp/
LOCATION:Jonathan’s Landing Golf Club\, 1309 Ponderosa Drive\, Magnolia\, Delaware\, 19962
CATEGORIES:Ballroom,Golf Outings
ATTACH;FMTTYPE=image/png:https://jonathanslandinggolf.com/wp-content/uploads/2024/07/JL_outing_cover.image_7.2024.png
END:VEVENT
BEGIN:VEVENT
DTSTART;TZID=UTC:20250530T090000
DTEND;TZID=UTC:20250530T170000
DTSTAMP:20260422T004819
CREATED:20250412T174753Z
LAST-MODIFIED:20250412T174753Z
UID:12784-1748595600-1748624400@jonathanslandinggolf.com
SUMMARY:Golf Outing: CR Band
DESCRIPTION:Friday\, May 30\, 2025 • 9:00AM
URL:https://jonathanslandinggolf.com/events-calendar/golf-outing-cr-band/
LOCATION:Jonathan’s Landing Golf Club\, 1309 Ponderosa Drive\, Magnolia\, Delaware\, 19962
CATEGORIES:Ballroom,Golf Outings
ATTACH;FMTTYPE=image/png:https://jonathanslandinggolf.com/wp-content/uploads/2024/07/JL_outing_cover.image_7.2024.png
END:VEVENT
END:VCALENDAR