BEGIN:VCALENDAR
VERSION:2.0
PRODID:-//Jonathan&#039;s Landing - Golf Course - Wedding Venue - Events Venue - Golf Outing - Kent County - Dover - Delaware - ECPv6.15.20//NONSGML v1.0//EN
CALSCALE:GREGORIAN
METHOD:PUBLISH
X-ORIGINAL-URL:https://jonathanslandinggolf.com
X-WR-CALDESC:Events for Jonathan&#039;s Landing - Golf Course - Wedding Venue - Events Venue - Golf Outing - Kent County - Dover - Delaware
REFRESH-INTERVAL;VALUE=DURATION:PT1H
X-Robots-Tag:noindex
X-PUBLISHED-TTL:PT1H
BEGIN:VTIMEZONE
TZID:UTC
BEGIN:STANDARD
TZOFFSETFROM:+0000
TZOFFSETTO:+0000
TZNAME:UTC
DTSTART:20240101T000000
END:STANDARD
END:VTIMEZONE
BEGIN:VEVENT
DTSTART;TZID=UTC:20250514T153000
DTEND;TZID=UTC:20250514T183000
DTSTAMP:20260423T093327
CREATED:20250411T180845Z
LAST-MODIFIED:20250425T144438Z
UID:12781-1747236600-1747247400@jonathanslandinggolf.com
SUMMARY:Golf Outing: DAS
DESCRIPTION:Thursday\, May 15\, 2025 • 9:00AM
URL:https://jonathanslandinggolf.com/events-calendar/golf-outing-das/
LOCATION:Jonathan’s Landing Golf Club\, 1309 Ponderosa Drive\, Magnolia\, Delaware\, 19962
CATEGORIES:Ballroom,Golf Outings
ATTACH;FMTTYPE=image/png:https://jonathanslandinggolf.com/wp-content/uploads/2024/07/JL_outing_cover.image_7.2024.png
END:VEVENT
BEGIN:VEVENT
DTSTART;TZID=UTC:20250514T170000
DTEND;TZID=UTC:20250514T193000
DTSTAMP:20260423T093327
CREATED:20250425T132949Z
LAST-MODIFIED:20250425T132949Z
UID:13018-1747242000-1747251000@jonathanslandinggolf.com
SUMMARY:Holy Cross League
DESCRIPTION:
URL:https://jonathanslandinggolf.com/events-calendar/holy-cross-league/2025-05-14/
LOCATION:Jonathan’s Landing Golf Club\, 1309 Ponderosa Drive\, Magnolia\, Delaware\, 19962
END:VEVENT
END:VCALENDAR